BEGIN:VCALENDAR
VERSION:2.0
PRODID:-//wp-events-plugin.com//7.2.3.1//EN
TZID:America/Los_Angeles
X-WR-TIMEZONE:America/Los_Angeles
BEGIN:VEVENT
UID:176@sloregionalcert.org
DTSTART;TZID=America/Los_Angeles:20200309T150000
DTEND;TZID=America/Los_Angeles:20200309T163000
DTSTAMP:20200309T011257Z
URL:https://sloregionalcert.org/events/officers-meeting-3-2020-03-09/
SUMMARY:Officer's Meeting - Canceled
DESCRIPTION:Meeting Canceled\nSeveral officers are staying home because the
 y don't want to get others sick and there are a few officers out of town s
 o we decided to cancel this meeting and allow everyone to use that time to
  focus on the upcoming activities in their local CERT program.\n\nStay saf
 e\, stay ready\, and be healthy.\nOriginal Agenda\n\n 	Introductions\n 	Ap
 proval of Minutes\n 	Correspondence\n 	Activities / Announcements\n 	Curre
 nt Business\n\n 	Annual Meeting Planning\n 	Quarterly Newsletter\n 	Financ
 e Plan (Bob &amp\; Lonny)\n\n\n 	New Business\n\n 	County-Wide Trainer Mee
 ting\n 	Website content\n\n\n 	Next Meeting\n\n 	Monday\, April 14th at 3 
 pm\n\n\n
CATEGORIES:Meetings
LOCATION:CAL Fire Expanded Dispatch Center\, 635 North Santa Rosa Street\, 
 San Luis Obispo\, Ca\, 93405\, United States
GEO:35.3017231;-120.67674569999997
X-APPLE-STRUCTURED-LOCATION;VALUE=URI;X-ADDRESS=635 North Santa Rosa Street
 \, San Luis Obispo\, Ca\, 93405\, United States;X-APPLE-RADIUS=100;X-TITLE
 =CAL Fire Expanded Dispatch Center:geo:35.3017231,-120.67674569999997
END:VEVENT
BEGIN:VTIMEZONE
TZID:America/Los_Angeles
X-LIC-LOCATION:America/Los_Angeles
BEGIN:DAYLIGHT
DTSTART:20200308T030000
TZOFFSETFROM:-0800
TZOFFSETTO:-0700
TZNAME:PDT
END:DAYLIGHT
END:VTIMEZONE
END:VCALENDAR